BEGIN:VCALENDAR
VERSION:2.0
PRODID:-//3M Dental Blog //NONSGML Events //EN
CALSCALE:GREGORIAN
BEGIN:VTIMEZONE
TZID:America/Chicago
TZURL:http://tzurl.org/zoneinfo-outlook/America/Chicago
X-LIC-LOCATION:America/Chicago
BEGIN:DAYLIGHT
TZOFFSETFROM:-0600
TZOFFSETTO:-0500
TZNAME:CDT
DTSTART:19700308T020000
RRULE:FREQ=YEARLY;BYMONTH=3;BYDAY=2SU
END:DAYLIGHT
BEGIN:STANDARD
TZOFFSETFROM:-0500
TZOFFSETTO:-0600
TZNAME:CST
DTSTART:19701101T020000
RRULE:FREQ=YEARLY;BYMONTH=11;BYDAY=1SU
END:STANDARD
END:VTIMEZONE
BEGIN:VEVENT
DTSTAMP:20210423T033232Z
UID:4077
DTSTART;VALUE=DATE:October 8, 2021
DTEND;VALUE=DATE:October 8, 2021
SUMMARY:Bioclear® 2 Day Core Anterior
DESCRIPTION:Reminder for Bioclear® 2 Day Core Anterior
END:VEVENT
END:VCALENDAR
